BEGIN:VCALENDAR
PRODID:-//eluceo/ical//2.0/EN
VERSION:2.0
CALSCALE:GREGORIAN
BEGIN:VEVENT
UID:b61967088eb899ed2c15018579a3d6ab
DTSTAMP:20260421T013505Z
SUMMARY:10:00 AM KI Shabbat Out of the Box: Drumming
DESCRIPTION:Shalom Lehigh Valley\nCommunity Calendar\nhttps://shalomlehighv
 alley.org/calendar/ki-10-am-shabbat-out-of-the-box-drumming-400239\n\nCome
  celebrate the New Year\, melt away stress\, and have fun with legendary d
 rum circle facilitator Moe Jerant. Moe uses drumming to create community a
 nd an enjoyable\, relaxing experience that is sure to let your inner instr
 umentalist come alive. It’s a rhythm party where there are no wrong note
 s and everyone has permission to make noise!\n\nNo prior musical experienc
 e is necessary. Drums and hand percussion instruments will be provided.  
 \n\nRegister HERE by April 20th to get location.
DTSTART;TZID=America/New_York:20220423T100000
DTEND;TZID=America/New_York:20220423T120000
END:VEVENT
END:VCALENDAR
