BEGIN:VCALENDAR
PRODID:-//eluceo/ical//2.0/EN
VERSION:2.0
CALSCALE:GREGORIAN
BEGIN:VEVENT
UID:42ee3006f99d353fef0369f0def0fc52
DTSTAMP:20260419T145010Z
SUMMARY:7:00 PM KI Monthly Board Meeting
DESCRIPTION:Shalom Lehigh Valley\nCommunity Calendar\nhttps://shalomlehighv
 alley.org/calendar/ki-7-pm-monthly-board-meeting-400259\n\nKI Monthly Boar
 d Meeting
DTSTART;TZID=America/New_York:20220518T190000
DTEND;TZID=America/New_York:20220518T210000
END:VEVENT
END:VCALENDAR
