BEGIN:VCALENDAR
PRODID:-//eluceo/ical//2.0/EN
VERSION:2.0
CALSCALE:GREGORIAN
BEGIN:VEVENT
UID:5cfbf6cb6bc3884b5a6320b6c8cd707e
DTSTAMP:20260420T163806Z
SUMMARY:KI 7:30 pm Aland Salinger & Adult Hebrew Class will participate
DESCRIPTION:Shalom Lehigh Valley\nCommunity Calendar\nhttps://shalomlehighv
 alley.org/calendar/ki-730-pm-aland-salinger-adult-hebrew-class-will-partic
 ipate-424110\n\nAlan Salinger and the Adult Hebrew Class will be participa
 ting at service
DTSTART;TZID=America/New_York:20230203T193000
DTEND;TZID=America/New_York:20230203T213000
END:VEVENT
END:VCALENDAR
