BEGIN:VCALENDAR
PRODID:-//eluceo/ical//2.0/EN
VERSION:2.0
CALSCALE:GREGORIAN
BEGIN:VEVENT
UID:d0b72b98ab959153e0744c57a590fa28
DTSTAMP:20260421T190615Z
SUMMARY:10:00 am KI A Talk presented by Dr. Jodi Eichler-Levine
DESCRIPTION:Shalom Lehigh Valley\nCommunity Calendar\nhttps://shalomlehighv
 alley.org/calendar/ki-a-talk-presented-by-dr-jodi-eichler-levine-430871\n\
 nA talk presented by Dr. Jodi Eichler-Levine in-person at KI
DTSTART;TZID=America/New_York:20230402T100000
DTEND;TZID=America/New_York:20230402T120000
END:VEVENT
END:VCALENDAR
