BEGIN:VCALENDAR
PRODID:-//eluceo/ical//2.0/EN
VERSION:2.0
CALSCALE:GREGORIAN
BEGIN:VEVENT
UID:2d237042dbf6241d10988b80220910a0
DTSTAMP:20260422T163013Z
SUMMARY:KI Dinner & a Movie
DESCRIPTION:Shalom Lehigh Valley\nCommunity Calendar\nhttps://shalomlehighv
 alley.org/calendar/ki-dinner--a-movie-3343\n\n5:30 PM KI Dinner & a Movie
DTSTART;TZID=America/New_York:20130406T173000
DTEND;TZID=America/New_York:20130406T220000
END:VEVENT
END:VCALENDAR
