BEGIN:VCALENDAR
PRODID:-//eluceo/ical//2.0/EN
VERSION:2.0
CALSCALE:GREGORIAN
BEGIN:VEVENT
UID:f95f4d2f31060c8a22ac75a1b8421b1d
DTSTAMP:20260420T145020Z
SUMMARY:KI Book Discussion & Dessert
DESCRIPTION:Shalom Lehigh Valley\nCommunity Calendar\nhttps://shalomlehighv
 alley.org/calendar/ki-discussion-dessert-420057\n\nWomen of KI welcome you
  to join us as our guest at:\n\nBook Discussion and Dessert: \n\nExplorin
 g Mother-Daughter Relationships\n\n\nDate: November 15th\, 2022\nTime: 7:0
 0pm\n\n\nJoin us as award-winning author Caroline Goldberg Igra leads a d
 iscussion about exploring Mother-Daughter Relationships.  Author of Where
  I Stand (2022)\, this Philadelphia native is visiting from her Tel Aviv h
 ome.\n\n Please RSVP by November 11th at kilv.org!\n\nInterested in buyin
 g the book? Do consider purcha...
DTSTART;TZID=America/New_York:20221115T190000
DTEND;TZID=America/New_York:20221115T210000
END:VEVENT
END:VCALENDAR
