BEGIN:VCALENDAR
PRODID:-//eluceo/ical//2.0/EN
VERSION:2.0
CALSCALE:GREGORIAN
BEGIN:VEVENT
UID:feb22a58392cb7b014cd907c15555a08
DTSTAMP:20260419T215244Z
SUMMARY:KI Family Services\, 6th grade participating
DESCRIPTION:Shalom Lehigh Valley\nCommunity Calendar\nhttps://shalomlehighv
 alley.org/calendar/ki-family-services-6th-grade-participating-49498\n\n7:3
 0 pm KI Family Services
DTSTART;TZID=America/New_York:20140207T193000
DTEND;TZID=America/New_York:20140207T204500
END:VEVENT
END:VCALENDAR
