BEGIN:VCALENDAR
PRODID:-//eluceo/ical//2.0/EN
VERSION:2.0
CALSCALE:GREGORIAN
BEGIN:VEVENT
UID:8d56ad56c2718e07b876fe2955bf9a72
DTSTAMP:20260420T003229Z
SUMMARY:KI Family Services\, B'day Blessings w/5th grade
DESCRIPTION:Shalom Lehigh Valley\nCommunity Calendar\nhttps://shalomlehighv
 alley.org/calendar/ki-family-services-bday-blessings-w-5th-grade-3346\n\n7
 :30PM KI Family Services\, B'day Blessings w/5th g
DTSTART;TZID=America/New_York:20130301T193000
DTEND;TZID=America/New_York:20130301T210000
END:VEVENT
END:VCALENDAR
