BEGIN:VCALENDAR
PRODID:-//eluceo/ical//2.0/EN
VERSION:2.0
CALSCALE:GREGORIAN
BEGIN:VEVENT
UID:4b230387450d1a4dfd156537762d2e57
DTSTAMP:20260420T104507Z
SUMMARY:KI Scholar In Residence Saturday Evening
DESCRIPTION:Shalom Lehigh Valley\nCommunity Calendar\nhttps://shalomlehighv
 alley.org/calendar/ki-scholar-in-residence-saturday-evening-3482\n\n07:00 
 PM KI Havdalah and Evening Program
DTSTART;TZID=America/New_York:20130316T190000
DTEND;TZID=America/New_York:20130316T213000
END:VEVENT
END:VCALENDAR
