BEGIN:VCALENDAR
PRODID:-//eluceo/ical//2.0/EN
VERSION:2.0
CALSCALE:GREGORIAN
BEGIN:VEVENT
UID:bf8be2766c324ac787248143fb4814f0
DTSTAMP:20260420T231506Z
SUMMARY:** LAG B'OMER **
DESCRIPTION:Shalom Lehigh Valley\nCommunity Calendar\nhttps://shalomlehighv
 alley.org/calendar/lag-bomer-5-7-15-132846\n\nLag B'Omer
DTSTART;TZID=America/New_York:20150507T000000
DTEND;TZID=America/New_York:20150507T235959
END:VEVENT
END:VCALENDAR
