BEGIN:VCALENDAR
PRODID:-//eluceo/ical//2.0/EN
VERSION:2.0
CALSCALE:GREGORIAN
BEGIN:VEVENT
UID:6bcc39004d49502a54b6baf3a6ad7875
DTSTAMP:20260419T125134Z
SUMMARY:Lehigh Valley Jewish Professionals: Handling Social Media
DESCRIPTION:Shalom Lehigh Valley\nCommunity Calendar\nhttps://shalomlehighv
 alley.org/calendar/lehigh-valley-jewish-professionals-handling-social-medi
 a-138334\n\nDid you know that your social media profiles can make or break
  your next job? Join the Lehigh Valley Jewish Professionals and state Rep.
  Mike Schlossberg to learn how to best "handle" your social media presenc
 e. \n\nThe program is free\, but the yogurt's on you. \n\nRSVP to Aaron 
 Gorodzinsky\, 610-821-5500\, aaron@jflv.org. \n\nScoop. Schmooze. Connect
 .\n\nREAD MORE ABOUT THE PROGRAM
DTSTART;TZID=America/New_York:20150528T173000
DTEND;TZID=America/New_York:20150528T190000
END:VEVENT
END:VCALENDAR
