BEGIN:VCALENDAR
PRODID:-//eluceo/ical//2.0/EN
VERSION:2.0
CALSCALE:GREGORIAN
BEGIN:VEVENT
UID:bde0d438528a589d0da6597ddccd66eb
DTSTAMP:20260420T184816Z
SUMMARY:LIFE & LEGACY Graduation
DESCRIPTION:Shalom Lehigh Valley\nCommunity Calendar\nhttps://shalomlehighv
 alley.org/calendar/life-legacy-graduation-374676\n\nAs part of the LIFE & 
 LEGACY class of 2021\, our community will be honored at a virtual ceremony
  by the Harold Grinspoon Foundation for completing four successful years 
 in their program. 
DTSTART;TZID=America/New_York:20210527T193000
DTEND;TZID=America/New_York:20210527T203000
END:VEVENT
END:VCALENDAR
