BEGIN:VCALENDAR
PRODID:-//eluceo/ical//2.0/EN
VERSION:2.0
CALSCALE:GREGORIAN
BEGIN:VEVENT
UID:4ba24c29f02a7ef1e6666fac3803ce91
DTSTAMP:20260419T161229Z
SUMMARY:LIFE & LEGACY Year 1 Community Celebration
DESCRIPTION:Shalom Lehigh Valley\nCommunity Calendar\nhttps://shalomlehighv
 alley.org/calendar/life-legacy-year-1-community-celebration-244573\n\nLIFE
  & LEGACY teams and donors\, prospective donors\, organization leadership 
 and anyone involved who has contributed to our success: Join the Jewish Fe
 deration and the Harold Grinspoon Foundation to celebrate\nthe success of 
 Year 1! Final community numbers will be revealed.\n\nHeavy hors d'oeuvres 
 and open bar. LVKC supervised.\n\nRSVP by Friday\, June 8\, to 610-821-550
 0 or mailbox@jflv.org or register online.\n\nIn partnership with the Jewis
 h Federation\, Jewish Community Center\, Jewish Day Sch...
DTSTART;TZID=America/New_York:20180620T183000
DTEND;TZID=America/New_York:20180620T210000
END:VEVENT
END:VCALENDAR
