BEGIN:VCALENDAR
PRODID:-//eluceo/ical//2.0/EN
VERSION:2.0
CALSCALE:GREGORIAN
BEGIN:VEVENT
UID:f2f845ad113db81f4e51c9c7c79e1bff
DTSTAMP:20260419T133310Z
SUMMARY:Little Failure: A Reading & Conversation with Gary Shteyngart
DESCRIPTION:Shalom Lehigh Valley\nCommunity Calendar\nhttps://shalomlehighv
 alley.org/calendar/little-failure-a-reading-conversation-with-gary-shteyng
 art-136528\n\nWith Moderator Professor Sasha Senderovich\, University of C
 olorado Boulder. Book signing and reception to follow.\n\nSponsored by the
  Berman Center for Jewish Studies at Lehigh University.\n\nFree and open t
 o the public.
DTSTART;TZID=America/New_York:20150427T180000
DTEND;TZID=America/New_York:20150427T200000
END:VEVENT
END:VCALENDAR
