BEGIN:VCALENDAR
PRODID:-//eluceo/ical//2.0/EN
VERSION:2.0
CALSCALE:GREGORIAN
BEGIN:VEVENT
UID:edf4232b9e4bb7d71498b612946ce02a
DTSTAMP:20260419T185226Z
SUMMARY:Momentum Cohort 3 Year of Growth Session
DESCRIPTION:Shalom Lehigh Valley\nCommunity Calendar\nhttps://shalomlehighv
 alley.org/calendar/momentum-cohort-3-year-of-growth-session-may-318667\n\n
 A session for the third cohort of women participating in the Year of Grow
 th through Momentum (formerly known as JWRP) and the Jewish Federation.
DTSTART;TZID=America/New_York:20200518T190000
DTEND;TZID=America/New_York:20200518T210000
END:VEVENT
END:VCALENDAR
