BEGIN:VCALENDAR
PRODID:-//eluceo/ical//2.0/EN
VERSION:2.0
CALSCALE:GREGORIAN
BEGIN:VEVENT
UID:7b331d713a7d11fb92526dc32272ffb9
DTSTAMP:20260419T174125Z
SUMMARY:Momentum Cohort 3 Year of Growth Session
DESCRIPTION:Shalom Lehigh Valley\nCommunity Calendar\nhttps://shalomlehighv
 alley.org/calendar/momentum-cohort-3-year-of-growth-session-nov-318661\n\n
 A session for the third cohort of women participating in the Year of Grow
 th through Momentum (formerly known as JWRP) and the Jewish Federation.
DTSTART;TZID=America/New_York:20191120T190000
DTEND;TZID=America/New_York:20191120T210000
END:VEVENT
END:VCALENDAR
