BEGIN:VCALENDAR
PRODID:-//eluceo/ical//2.0/EN
VERSION:2.0
CALSCALE:GREGORIAN
BEGIN:VEVENT
UID:3ae9cba5e98bece40d1fffd4f2ecb841
DTSTAMP:20260421T153544Z
SUMMARY:Monthly Mindfulness with Women's Philanthropy
DESCRIPTION:Shalom Lehigh Valley\nCommunity Calendar\nhttps://shalomlehighv
 alley.org/calendar/monthly-mindfulness-397529\n\nJewish Federation via Zoo
 m\n\nRelax with Women's Philanthropy and Holly Hebron Moyer over Zoom\, wh
 ere you'll learn mindfulness and meditation exercises. All levels of exper
 ience are welcome. Open to all women in the community. \n\nOther sessions
 :\nTuesday\, March 1\nTuesday\, April 5\nThursday\, May 5 
DTSTART;TZID=America/New_York:20220201T190000
DTEND;TZID=America/New_York:20220201T194500
END:VEVENT
END:VCALENDAR
