BEGIN:VCALENDAR
PRODID:-//eluceo/ical//2.0/EN
VERSION:2.0
CALSCALE:GREGORIAN
BEGIN:VEVENT
UID:fb35d89b73a0f4ba4e70b8d2f1b7f72e
DTSTAMP:20260419T185944Z
SUMMARY:New-ish & Jewish Women's Event
DESCRIPTION:Shalom Lehigh Valley\nCommunity Calendar\nhttps://shalomlehighv
 alley.org/calendar/new-ish-jewish-womens-event-365434\n\nNew-ish & Jewish 
 event for women. More details to come.
DTSTART;TZID=America/New_York:20201110T200000
DTEND;TZID=America/New_York:20201110T210000
END:VEVENT
END:VCALENDAR
