BEGIN:VCALENDAR
PRODID:-//eluceo/ical//2.0/EN
VERSION:2.0
CALSCALE:GREGORIAN
BEGIN:VEVENT
UID:3272c7e2cc1326ef27f50052018b995d
DTSTAMP:20260419T155855Z
SUMMARY:1:00 pm JDS Open House
DESCRIPTION:Shalom Lehigh Valley\nCommunity Calendar\nhttps://shalomlehighv
 alley.org/calendar/open-house-1415286849-124636\n\nContact Carolyn Katwan:
  ckatwan@jdslv.org or 610-437-0721.
DTSTART;TZID=America/New_York:20141117T130000
DTEND;TZID=America/New_York:20141117T150000
END:VEVENT
END:VCALENDAR
