BEGIN:VCALENDAR
PRODID:-//eluceo/ical//2.0/EN
VERSION:2.0
CALSCALE:GREGORIAN
BEGIN:VEVENT
UID:51743bfc61ded33243426c0861c71052
DTSTAMP:20260420T062043Z
SUMMARY:** PASSOVER **
DESCRIPTION:Shalom Lehigh Valley\nCommunity Calendar\nhttps://shalomlehighv
 alley.org/calendar/passover-2017-135508\n\nHoliday commences at sundown on
  April 10.\n\nFederation offices close 4 pm April 10\, closed all day Apri
 l 11\, 12\, 17 & 18.
DTSTART;TZID=America/New_York:20170411T000000
DTEND;TZID=America/New_York:20170418T235500
END:VEVENT
END:VCALENDAR
