BEGIN:VCALENDAR
PRODID:-//eluceo/ical//2.0/EN
VERSION:2.0
CALSCALE:GREGORIAN
BEGIN:VEVENT
UID:0ada2d71d58b0ae75eea092b348fcd56
DTSTAMP:20260420T152040Z
SUMMARY:PJ Library Fly Off to the New Year with Aladdin
DESCRIPTION:Shalom Lehigh Valley\nCommunity Calendar\nhttps://shalomlehighv
 alley.org/calendar/pj-fly-off-to-the-new-year-with-aladdin-62031\n\nEnjoy 
 a delicious family-friendly breakfast with Aladdin on his magic carpet. We
 'll have Rosh Hashanah crafts\, face painting\, photos with Aladdin and\, 
 of course\, a PJ Library story.\n\nCome dressed as your favorite charact
 er! \n\n$6 JCC member child/one free adult per child/ $3 additional adu
 lts\n\n$11 non JCC member child/ $3 non JCC member adult\n\nPre-regist
 er at the JCC Welcome Desk or by calling 610-435-3571.\n\nFor more infor
 mation\, contact Brenda at bfinberg@lvjcc.org.
DTSTART;TZID=America/New_York:20140921T100000
DTEND;TZID=America/New_York:20140921T113000
END:VEVENT
END:VCALENDAR
