BEGIN:VCALENDAR
PRODID:-//eluceo/ical//2.0/EN
VERSION:2.0
CALSCALE:GREGORIAN
BEGIN:VEVENT
UID:9a955c261fb3987e61da256d0cc48c15
DTSTAMP:20260419T214049Z
SUMMARY:PJ Celebrates Rosh Hashanah
DESCRIPTION:Shalom Lehigh Valley\nCommunity Calendar\nhttps://shalomlehighv
 alley.org/calendar/pj-library-celebrates-rosh-hashanah-1485461546-220430\n
 \nJoin PJ Library for a delicious Rosh Hashanah apple and honey dipping ba
 r\, Rosh Hashanah craft and of course\, a PJ Library story. Special guest 
 reader Rabbi Moshe Re’em of Temple Beth El will also blow the shofar. To
  register\, contact Abby Trachtman at abbyt@jflv.org.\n\nPJ Library is a n
 ational program administered locally by the Jewish Federation\, the JCC an
 d the Jewish Day School.\n\nIn addition to this program on Sept. 10\, samp
 le other programs that the JCC has to offer for children\, te...
DTSTART;TZID=America/New_York:20170910T153000
DTEND;TZID=America/New_York:20170910T170000
END:VEVENT
END:VCALENDAR
