BEGIN:VCALENDAR
PRODID:-//eluceo/ical//2.0/EN
VERSION:2.0
CALSCALE:GREGORIAN
BEGIN:VEVENT
UID:6bd9ca33573a6d8d6c8026c0585dbccc
DTSTAMP:20260419T190859Z
SUMMARY:PJ Library Celebrates Shavuot
DESCRIPTION:Shalom Lehigh Valley\nCommunity Calendar\nhttps://shalomlehighv
 alley.org/calendar/pj-library-celebrates-shavuot-5-21-17-182664\n\nJoin PJ
  Library at Whole Foods Market for a Shavuot celebration. Kids will have a
  chance to make dough and see it cook to bread (to commemorate grains) and
  make their own art creations out of fruit (first fruits of the harvest).\
 n\nMeet on the patio beside the cafe. Please note: Whole Foods is not a ko
 sher establishment.\n\nRSVP to Abby Trachtman at 610-821-5500 or abbyt@jfl
 v.org. \n\n 
DTSTART;TZID=America/New_York:20170521T103000
DTEND;TZID=America/New_York:20170521T120000
END:VEVENT
END:VCALENDAR
