BEGIN:VCALENDAR
PRODID:-//eluceo/ical//2.0/EN
VERSION:2.0
CALSCALE:GREGORIAN
BEGIN:VEVENT
UID:510c7093e8762c5f7949f144f012cf32
DTSTAMP:20260420T024509Z
SUMMARY:PJ Library Havdalah and a Movie at Hillel
DESCRIPTION:Shalom Lehigh Valley\nCommunity Calendar\nhttps://shalomlehighv
 alley.org/calendar/pj-library-havdalah--a-movie-1456251592-182663\n\nJoin 
 PJ Library at Muhlenberg Hillel for a pajama party\, movie and Havdalah ac
 tivities. Children should come dressed in pajamas. The Hillel students wil
 l run the activities while parents schmooze and get to know one another wi
 th wine and dessert. $10 per family. To learn more or RSVP\, contact  Abb
 y Trachtman at 610-821-5500 or abbyt@jflv.org.
DTSTART;TZID=America/New_York:20170211T183000
DTEND;TZID=America/New_York:20170211T200000
END:VEVENT
END:VCALENDAR
