BEGIN:VCALENDAR
PRODID:-//eluceo/ical//2.0/EN
VERSION:2.0
CALSCALE:GREGORIAN
BEGIN:VEVENT
UID:8e49fa059c6941a9d8cbb83d00833a5c
DTSTAMP:20260420T172805Z
SUMMARY:10:00 am KI PJ Library Mini Minyan
DESCRIPTION:Shalom Lehigh Valley\nCommunity Calendar\nhttps://shalomlehighv
 alley.org/calendar/pj-library-mini-minyan-aug-22-15-152392\n\nBring the li
 ttle ones for a Tot Shabbat service with songs and blessings and of course
 \, a PJ Library story. For more information contact KI at 610-435-9074
  or Cantor Jenn at cantor@kilv.org.  
DTSTART;TZID=America/New_York:20150822T100000
DTEND;TZID=America/New_York:20150822T110000
END:VEVENT
END:VCALENDAR
