BEGIN:VCALENDAR
PRODID:-//eluceo/ical//2.0/EN
VERSION:2.0
CALSCALE:GREGORIAN
BEGIN:VEVENT
UID:d424abbb160e14eb343bb0362339cbb1
DTSTAMP:20260421T084643Z
SUMMARY:PJ@Home Celebrates Hanukkah
DESCRIPTION:Shalom Lehigh Valley\nCommunity Calendar\nhttps://shalomlehighv
 alley.org/calendar/pjhome-celebrates-hanukkah-358876\n\nJoin PJ@Home for a
  virtual Hanukkah celebration!\n\nZoom in with us to read the book and PJ
  selection\, “Hanukkah Bear” by Eric A. Kimmel. We will also be making
  a menorah craft. In partnership with the JCC of the Lehigh Valley.\n\n \
 n\nPick up your kit curbside at the JCC between 11-1\, then join us on Zoo
 m at 3 p.m. for stories\, songs\, crafts and more.\n\nREGISTER NOW
DTSTART;TZID=America/New_York:20201206T150000
DTEND;TZID=America/New_York:20201206T160000
END:VEVENT
END:VCALENDAR
