BEGIN:VCALENDAR
PRODID:-//eluceo/ical//2.0/EN
VERSION:2.0
CALSCALE:GREGORIAN
BEGIN:VEVENT
UID:2ef0cea28e22d81e26b60521cf810525
DTSTAMP:20260419T114805Z
SUMMARY:PJ@Home Zombie Vacation
DESCRIPTION:Shalom Lehigh Valley\nCommunity Calendar\nhttps://shalomlehighv
 alley.org/calendar/pjhome-zombie-vacation-358841\n\nJoin Author Lisa Rose 
 to hear her read her newest book and PJ selection\, "Zombie Vacation."  C
 hildren may dress like zombies as they get a zombie’s eye view of the Se
 a of Galilee\, the Israel Museum in Jerusalem and Luna Park in Tel Aviv. 
 Find out why there’s no place in the world like the Dead Sea.\n\nThis ev
 ent will take place via Zoom. Register now.
DTSTART;TZID=America/New_York:20201101T150000
DTEND;TZID=America/New_York:20201101T160000
END:VEVENT
END:VCALENDAR
