BEGIN:VCALENDAR
PRODID:-//eluceo/ical//2.0/EN
VERSION:2.0
CALSCALE:GREGORIAN
BEGIN:VEVENT
UID:7636641b23493fc774538355c1f5d659
DTSTAMP:20260422T151326Z
SUMMARY:Preserving Memory: Community Relations Council Lunch & Learn
DESCRIPTION:Shalom Lehigh Valley\nCommunity Calendar\nhttps://shalomlehighv
 alley.org/calendar/preserving-memory-community-relations-council-lunch-lea
 rn-294776\n\nA Lunch & Learn program presented by the Community Relations 
 Council of the Jewish Federation of the Lehigh Valley. For over 1\,000 yea
 rs there was a rich tradition of Jewish life in Bohemia and Moravia\, now 
 the Czech Republic. In 1700\, Jews accounted for a quarter of Prague’s p
 opulation. When the Nazis invaded in 1939\, many of the 350 Czech synagogu
 es were abandoned or destroyed. In 1942\, a group of Prague Jews surprisin
 gly persuaded the Nazis to store over 100\,000 deteriorating religious o..
 .
DTSTART;TZID=America/New_York:20190207T120000
DTEND;TZID=America/New_York:20190207T130000
END:VEVENT
END:VCALENDAR
