BEGIN:VCALENDAR
PRODID:-//eluceo/ical//2.0/EN
VERSION:2.0
CALSCALE:GREGORIAN
BEGIN:VEVENT
UID:e57e12a424052d5b1da289ea80f4027d
DTSTAMP:20260419T215214Z
SUMMARY:Purim CARnival
DESCRIPTION:Shalom Lehigh Valley\nCommunity Calendar\nhttps://shalomlehighv
 alley.org/calendar/purim-carnival-1612368709-373878\n\n·     Shoe Shine
 s: We said "Shushan" - the setting of the Purim story. But they heard "S
 hoe Shine!" It's ok\, we'll roll with it. Drop off new or gently used sho
 es for our collection drive\, benefiting Soles for Souls.  \nI’m Gonna
  VASH(ti) That Man Right Outta My Hair: Cantor Jill will sing a Purim Song
 .\n·    Give More(dechai): Moredechai helped save the Jews. Here's y
 our chance to help those in need. Bring your own \npaper goods - a roll o
 f toilet paper\, paper towels or...
DTSTART;TZID=America/New_York:20210221T130000
DTEND;TZID=America/New_York:20210221T150000
END:VEVENT
END:VCALENDAR
