BEGIN:VCALENDAR
PRODID:-//eluceo/ical//2.0/EN
VERSION:2.0
CALSCALE:GREGORIAN
BEGIN:VEVENT
UID:c7bf28f0a599015ebc184497c3f22468
DTSTAMP:20260420T131931Z
SUMMARY:** ROSH HASHANA **
DESCRIPTION:Shalom Lehigh Valley\nCommunity Calendar\nhttps://shalomlehighv
 alley.org/calendar/rosh-hashana-2017-135389\n\nHoliday begins at sundown o
 n Wed.\, Sept. 20\; ends Fri\, Sept. 22.
DTSTART;TZID=America/New_York:20170921T000000
DTEND;TZID=America/New_York:20170922T235959
END:VEVENT
END:VCALENDAR
