BEGIN:VCALENDAR
PRODID:-//eluceo/ical//2.0/EN
VERSION:2.0
CALSCALE:GREGORIAN
BEGIN:VEVENT
UID:d276d57d8bf0cbc0acff16bb108de1ea
DTSTAMP:20260420T225241Z
SUMMARY:Shalom Baby Reunion
DESCRIPTION:Shalom Lehigh Valley\nCommunity Calendar\nhttps://shalomlehighv
 alley.org/calendar/shalom-baby-reunion-1452623829-177988\n\nFree event. Sn
 acks\, playground time and fun.
DTSTART;TZID=America/New_York:20160605T100000
DTEND;TZID=America/New_York:20160605T120000
END:VEVENT
END:VCALENDAR
