BEGIN:VCALENDAR
PRODID:-//eluceo/ical//2.0/EN
VERSION:2.0
CALSCALE:GREGORIAN
BEGIN:VEVENT
UID:ef861cb086d9240dea5b10f088e41af4
DTSTAMP:20260421T223813Z
SUMMARY:** SHAVUOT **
DESCRIPTION:Shalom Lehigh Valley\nCommunity Calendar\nhttps://shalomlehighv
 alley.org/calendar/shavuot-2017-135518\n\nHoliday commences at sundown on 
 May 30.\n\nFederation offices close 4 pm May 30\, closed all day May 31 & 
 June 1.
DTSTART;TZID=America/New_York:20170531T000000
DTEND;TZID=America/New_York:20170601T235500
END:VEVENT
END:VCALENDAR
