BEGIN:VCALENDAR
PRODID:-//eluceo/ical//2.0/EN
VERSION:2.0
CALSCALE:GREGORIAN
BEGIN:VEVENT
UID:857da3edc7e982982818c47d20cd92e6
DTSTAMP:20260420T091639Z
SUMMARY:** SHAVUOT **
DESCRIPTION:Shalom Lehigh Valley\nCommunity Calendar\nhttps://shalomlehighv
 alley.org/calendar/shavuot-2019-236311\n\nHoliday begins at sundown on Sat
 urday\, June 8.
DTSTART;TZID=America/New_York:20190609T000000
DTEND;TZID=America/New_York:20190610T235959
END:VEVENT
END:VCALENDAR
