BEGIN:VCALENDAR
PRODID:-//eluceo/ical//2.0/EN
VERSION:2.0
CALSCALE:GREGORIAN
BEGIN:VEVENT
UID:7bd3aa90d099eaea34521726226259c5
DTSTAMP:20260420T172815Z
SUMMARY:** SHMINI ATZERET **
DESCRIPTION:Shalom Lehigh Valley\nCommunity Calendar\nhttps://shalomlehighv
 alley.org/calendar/shmini-atzeret-10-5-15-132760\n\nHoliday commences at s
 undown on October 4.\n\nFederation offices closed Oct. 5.
DTSTART;TZID=America/New_York:20151005T000000
DTEND;TZID=America/New_York:20151005T235959
END:VEVENT
END:VCALENDAR
