BEGIN:VCALENDAR
PRODID:-//eluceo/ical//2.0/EN
VERSION:2.0
CALSCALE:GREGORIAN
BEGIN:VEVENT
UID:2ba6ef8375773e52d1410f57ec11bba5
DTSTAMP:20260419T220118Z
SUMMARY:2:00 pm TCP Sofer (Scribe) Neil Yerman - Artist In Residence
DESCRIPTION:Shalom Lehigh Valley\nCommunity Calendar\nhttps://shalomlehighv
 alley.org/calendar/sofer-scribe-neil-yerman---tcps-artist-in-residence-142
 8499733-141236\n\nContact Joanne Davenport: tcp@rcn.com or 610-253-2031.
DTSTART;TZID=America/New_York:20150419T140000
DTEND;TZID=America/New_York:20150419T160000
END:VEVENT
END:VCALENDAR
