BEGIN:VCALENDAR
PRODID:-//eluceo/ical//2.0/EN
VERSION:2.0
CALSCALE:GREGORIAN
BEGIN:VEVENT
UID:982855b80065bb110782a0eb87a90504
DTSTAMP:20260419T154744Z
SUMMARY:Solidarity Shabbat
DESCRIPTION:Shalom Lehigh Valley\nCommunity Calendar\nhttps://shalomlehighv
 alley.org/calendar/solidarity-shabbat-291107\n\nWhat do we do when the uns
 peakable happens? \n\nLast Shabbat\, we witnessed the deadliest act of an
 ti-Semitism in North American history. This Shabbat\, we respond with our 
 greatest show of solidarity. \n\nWe are witnessing an unprecedented rise 
 in anti-Semitic acts in America\, up 57% in 2017. And\, in the aftermath o
 f the lethal attack at Pittsburgh's Tree of Life synagogue\, we are also w
 itnessing an outpouring of support — reminding us that "out of the fires
  of desperation burn hope and so...
DTSTART;TZID=America/New_York:20181103T090000
DTEND;TZID=America/New_York:20181103T120000
END:VEVENT
END:VCALENDAR
