BEGIN:VCALENDAR
PRODID:-//eluceo/ical//2.0/EN
VERSION:2.0
CALSCALE:GREGORIAN
BEGIN:VEVENT
UID:af5ba394a0d12b1784b615a9bbda9c7a
DTSTAMP:20260422T122835Z
SUMMARY:**SUKKOT**
DESCRIPTION:Shalom Lehigh Valley\nCommunity Calendar\nhttps://shalomlehighv
 alley.org/calendar/sukkot-2019-245824\n\nFederation offices closed Oct 14 
 & 15 in observance of Sukkot.
DTSTART;TZID=America/New_York:20191014T000000
DTEND;TZID=America/New_York:20191020T235959
END:VEVENT
END:VCALENDAR
