BEGIN:VCALENDAR
PRODID:-//eluceo/ical//2.0/EN
VERSION:2.0
CALSCALE:GREGORIAN
BEGIN:VEVENT
UID:31763b837c686d697f890f0b177c21d3
DTSTAMP:20260420T144940Z
SUMMARY:**SUKKOT**
DESCRIPTION:Shalom Lehigh Valley\nCommunity Calendar\nhttps://shalomlehighv
 alley.org/calendar/sukkot-2020-236391\n\nBegins evening of Friday\, Oct. 2
 \; ends evening of Friday\, Oct. 9
DTSTART;TZID=America/New_York:20201003T000000
DTEND;TZID=America/New_York:20201009T235959
END:VEVENT
END:VCALENDAR
