BEGIN:VCALENDAR
PRODID:-//eluceo/ical//2.0/EN
VERSION:2.0
CALSCALE:GREGORIAN
BEGIN:VEVENT
UID:0c5cf02f4325b13525d9cd1a60732fc6
DTSTAMP:20260420T004910Z
SUMMARY:Super Sunday: Heroes Unite
DESCRIPTION:Shalom Lehigh Valley\nCommunity Calendar\nhttps://shalomlehighv
 alley.org/calendar/super-sunday-heroes-unite-220905\n\nA full community da
 y of service that unites volunteers from across the community to raise mon
 ey for the Federation's Annual Campaign and participate in mitzvah project
 s.\n\nNEW THIS YEAR: Four teams will engage in some friendly competition t
 o see who can bring in the most money for the 2018 Annual Campaign for Jew
 ish Needs. The winning team will get to allocate $1\,000 to the campaign b
 eneficiary of their choice.\n\nCalls will take place in two shifts: 9:30 a
 .m. to 1:00 p.m. and 5:30 to 8:00 p...
DTSTART;TZID=America/New_York:20180128T093000
DTEND;TZID=America/New_York:20180128T200000
END:VEVENT
END:VCALENDAR
