BEGIN:VCALENDAR
PRODID:-//eluceo/ical//2.0/EN
VERSION:2.0
CALSCALE:GREGORIAN
BEGIN:VEVENT
UID:b82d212a4dce69dc0622c495aecbb5d4
DTSTAMP:20260419T230101Z
SUMMARY:Supported Decision Making: A Practical Alternative to Guardianship
DESCRIPTION:Shalom Lehigh Valley\nCommunity Calendar\nhttps://shalomlehighv
 alley.org/calendar/supported-decision-making-a-practical-alternative-to-gu
 ardianship-369957\n\nJoin JFS and the Lehigh Valley Center for Independent
  Living (LVCIL) for a presentation about Supported Decision Making (SDM). 
 SDM is a viable alternative to guardianship for young adults with intellec
 tual and physical disabilites.\n\nPresenters from SDM New York will talk a
 bout the process of bringing Supported Decision Making to their community 
 and how SDM empowers the lives of young adults with intellectual and physi
 cal disabilities to live more independent lives.\n\nFree to the community 
 ...
DTSTART;TZID=America/New_York:20210217T190000
DTEND;TZID=America/New_York:20210217T200000
END:VEVENT
END:VCALENDAR
