BEGIN:VCALENDAR
PRODID:-//eluceo/ical//2.0/EN
VERSION:2.0
CALSCALE:GREGORIAN
BEGIN:VEVENT
UID:0ae15f61af3bb86a748aca40cc9c2582
DTSTAMP:20260420T230729Z
SUMMARY:7:00 pm TBE Comedy Night
DESCRIPTION:Shalom Lehigh Valley\nCommunity Calendar\nhttps://shalomlehighv
 alley.org/calendar/tbe-comedy-night2-21-15-62084\n\nContact Michelle Rohrb
 ach: michelle@bethelallentown.org or 610-435-3521.
DTSTART;TZID=America/New_York:20150221T193000
DTEND;TZID=America/New_York:20150221T230000
END:VEVENT
END:VCALENDAR
