BEGIN:VCALENDAR
PRODID:-//eluceo/ical//2.0/EN
VERSION:2.0
CALSCALE:GREGORIAN
BEGIN:VEVENT
UID:27679feb894e73a39878fa02179deaee
DTSTAMP:20260419T115557Z
SUMMARY:6:00 PM TBE Executive Board Meeting Aug 2019
DESCRIPTION:Shalom Lehigh Valley\nCommunity Calendar\nhttps://shalomlehighv
 alley.org/calendar/tbe-executive-board-meeting-aug-2019-304352\n\n6:00 pm 
 - TBE Executive Board Meeting
DTSTART;TZID=America/New_York:20190814T180000
DTEND;TZID=America/New_York:20190814T193000
END:VEVENT
END:VCALENDAR
