BEGIN:VCALENDAR
PRODID:-//eluceo/ical//2.0/EN
VERSION:2.0
CALSCALE:GREGORIAN
BEGIN:VEVENT
UID:34a68d1059477c159e0fa51709c67613
DTSTAMP:20260421T104030Z
SUMMARY:1:00 pm TBE Satori Concert
DESCRIPTION:Shalom Lehigh Valley\nCommunity Calendar\nhttps://shalomlehighv
 alley.org/calendar/tbe-satori-concert-10-26-14-62044\n\nContact Michelle R
 ohrbach: michelle@bethelallentown.org or 610-435-3521.
DTSTART;TZID=America/New_York:20141026T130000
DTEND;TZID=America/New_York:20141026T153000
END:VEVENT
END:VCALENDAR
