BEGIN:VCALENDAR
PRODID:-//eluceo/ical//2.0/EN
VERSION:2.0
CALSCALE:GREGORIAN
BEGIN:VEVENT
UID:4aa24f07db3aaab624127eda65bcae9d
DTSTAMP:20260419T190055Z
SUMMARY:9:30am TBE Service Shavuot Day 1
DESCRIPTION:Shalom Lehigh Valley\nCommunity Calendar\nhttps://shalomlehighv
 alley.org/calendar/tbe-service-Shavuot-Day1-5-24-15-62130\n\nContact Miche
 lle Rohrbach: michelle@bethelallentown.org or 610-435-3521.
DTSTART;TZID=America/New_York:20150524T093000
DTEND;TZID=America/New_York:20150524T113000
END:VEVENT
END:VCALENDAR
