BEGIN:VCALENDAR
PRODID:-//eluceo/ical//2.0/EN
VERSION:2.0
CALSCALE:GREGORIAN
BEGIN:VEVENT
UID:fed7524497a01fb81a78d36ba3d31d2f
DTSTAMP:20260420T025930Z
SUMMARY:12:00 pm TBE Sisterhood Lunch and Learn
DESCRIPTION:Shalom Lehigh Valley\nCommunity Calendar\nhttps://shalomlehighv
 alley.org/calendar/tbe-sisterhood-lunch-and-learn12-3-14-62060\n\nContact 
 Michelle Rohrbach: michelle@bethelallentown.org or 610-435-3521.
DTSTART;TZID=America/New_York:20141203T120000
DTEND;TZID=America/New_York:20141203T140000
END:VEVENT
END:VCALENDAR
