BEGIN:VCALENDAR
PRODID:-//eluceo/ical//2.0/EN
VERSION:2.0
CALSCALE:GREGORIAN
BEGIN:VEVENT
UID:71fc21dcf42e02b1d8b48a6a3b50a705
DTSTAMP:20260420T040532Z
SUMMARY:7:00 pm TBE Virtual Bingo
DESCRIPTION:Shalom Lehigh Valley\nCommunity Calendar\nhttps://shalomlehighv
 alley.org/calendar/tbe-virtual-bingo-395279\n\nVirtual Bingo! Please see t
 he TBE website www.bethelallentown.org for more information.
DTSTART;TZID=America/New_York:20220317T190000
DTEND;TZID=America/New_York:20220317T203000
END:VEVENT
END:VCALENDAR
