BEGIN:VCALENDAR
PRODID:-//eluceo/ical//2.0/EN
VERSION:2.0
CALSCALE:GREGORIAN
BEGIN:VEVENT
UID:abdb4c66c5469ec87f079b23c9a053b0
DTSTAMP:20260420T142923Z
SUMMARY:10:00 am TBE Youth Services
DESCRIPTION:Shalom Lehigh Valley\nCommunity Calendar\nhttps://shalomlehighv
 alley.org/calendar/tbe-youth-services-apr-18-2015-62109\n\nContact Michell
 e Rohrbach: michelle@bethelallentown.org or 610-435-3521.
DTSTART;TZID=America/New_York:20150418T100000
DTEND;TZID=America/New_York:20150418T113000
END:VEVENT
END:VCALENDAR
