BEGIN:VCALENDAR
PRODID:-//eluceo/ical//2.0/EN
VERSION:2.0
CALSCALE:GREGORIAN
BEGIN:VEVENT
UID:ae2e5efe49bfd8a48daf3a58e4bb08c5
DTSTAMP:20260420T045858Z
SUMMARY:TCP Family Game Night
DESCRIPTION:Shalom Lehigh Valley\nCommunity Calendar\nhttps://shalomlehighv
 alley.org/calendar/tcp-family-game-night-3556\n\n6:00PM TCP Game Night
DTSTART;TZID=America/New_York:20130406T180000
DTEND;TZID=America/New_York:20130406T200000
END:VEVENT
END:VCALENDAR
