BEGIN:VCALENDAR
PRODID:-//eluceo/ical//2.0/EN
VERSION:2.0
CALSCALE:GREGORIAN
BEGIN:VEVENT
UID:39e748fa34b60fea7c11cfb720d20e42
DTSTAMP:20260422T071116Z
SUMMARY:7:30 pm New Broadway Shabbat Service atTCP
DESCRIPTION:Shalom Lehigh Valley\nCommunity Calendar\nhttps://shalomlehighv
 alley.org/calendar/tcp-shabbat-services-1529337149-274652\n\nNew Broadway 
 Shabbat Service at Temple Covenant of Peace
DTSTART;TZID=America/New_York:20180824T193000
DTEND;TZID=America/New_York:20180824T213000
END:VEVENT
END:VCALENDAR
