BEGIN:VCALENDAR
PRODID:-//eluceo/ical//2.0/EN
VERSION:2.0
CALSCALE:GREGORIAN
BEGIN:VEVENT
UID:3f2d6f8eb3c1ce1eb748d3596f19aad6
DTSTAMP:20260420T104218Z
SUMMARY:7:30 pm Camp Shabbat Services @ TCP
DESCRIPTION:Shalom Lehigh Valley\nCommunity Calendar\nhttps://shalomlehighv
 alley.org/calendar/tcp-shabbat-services-1529337366-274655\n\nCamp Shabbat 
 at TCP
DTSTART;TZID=America/New_York:20180831T193000
DTEND;TZID=America/New_York:20180831T203000
END:VEVENT
END:VCALENDAR
